BEGIN:VCALENDAR
VERSION:2.0
PRODID:-//Campbell River Now - ECPv6.15.20//NONSGML v1.0//EN
CALSCALE:GREGORIAN
METHOD:PUBLISH
X-WR-CALNAME:Campbell River Now
X-ORIGINAL-URL:https://campbellrivernow.com
X-WR-CALDESC:Events for Campbell River Now
REFRESH-INTERVAL;VALUE=DURATION:PT1H
X-Robots-Tag:noindex
X-PUBLISHED-TTL:PT1H
BEGIN:VTIMEZONE
TZID:America/Los_Angeles
BEGIN:DAYLIGHT
TZOFFSETFROM:-0800
TZOFFSETTO:-0700
TZNAME:PDT
DTSTART:20250309T100000
END:DAYLIGHT
BEGIN:STANDARD
TZOFFSETFROM:-0700
TZOFFSETTO:-0800
TZNAME:PST
DTSTART:20251102T090000
END:STANDARD
BEGIN:DAYLIGHT
TZOFFSETFROM:-0800
TZOFFSETTO:-0700
TZNAME:PDT
DTSTART:20260308T100000
END:DAYLIGHT
BEGIN:STANDARD
TZOFFSETFROM:-0700
TZOFFSETTO:-0800
TZNAME:PST
DTSTART:20261101T090000
END:STANDARD
BEGIN:DAYLIGHT
TZOFFSETFROM:-0800
TZOFFSETTO:-0700
TZNAME:PDT
DTSTART:20270314T100000
END:DAYLIGHT
BEGIN:STANDARD
TZOFFSETFROM:-0700
TZOFFSETTO:-0800
TZNAME:PST
DTSTART:20271107T090000
END:STANDARD
END:VTIMEZONE
BEGIN:VEVENT
DTSTART;TZID=America/Los_Angeles:20260417T173000
DTEND;TZID=America/Los_Angeles:20260417T203000
DTSTAMP:20260421T015154
CREATED:20260308T230218Z
LAST-MODIFIED:20260308T230219Z
UID:10000548-1776447000-1776457800@campbellrivernow.com
SUMMARY:Live Music with Ben Jackson
DESCRIPTION:Ben is back! Come hear him play live at SoCal Restaurant & Lounge in Campbell River this Friday\, April 17th 🎶. \n\n\n\nExperience great music\, positive vibes and yummy food & drink specials 🙂 \n\n\n\nLocation\n\n\n\n\n\nAbout Ben Jackson\n\n\n\nBen Jackson is known for his distinctive\, gritty & soulful voice.  \n\n\n\nWith a repertoire spanning blues\, southern rock\, classic rock\, and ’90s grunge\, Ben guides you on a nostalgic journey through the soundtracks of your past. \n\n\n\nYou can learn more about Ben on his website here.
URL:https://campbellrivernow.com/event/ben-jackson-socal/
LOCATION:SoCal Restaurant & Lounge\, 2231 S Island Hwy\, Campbell River\, BC\, V9W 1C4\, Canada
ATTACH;FMTTYPE=image/webp:https://campbellrivernow.com/wp-content/uploads/2025/05/ben-jackson.webp
END:VEVENT
BEGIN:VEVENT
DTSTART;TZID=America/Los_Angeles:20260417T193000
DTEND;TZID=America/Los_Angeles:20260417T230000
DTSTAMP:20260421T015154
CREATED:20260214T185201Z
LAST-MODIFIED:20260407T232644Z
UID:10000434-1776454200-1776466800@campbellrivernow.com
SUMMARY:Karaoke Night at CR Legion Hall
DESCRIPTION:Come for Karaoke (Kimmy-okee) at on Fridays\, at the Legion in Campbell River for a night of singing fun. \n\n\n\nThis event supports veterans and families. \n\n\n\nDate: Every Friday! (almost – check their FB for updates) \n\n\n\nTime: 7:30pm – 11:00pm \n\n\n\nLocation: Campbell River Legion Hall \n\n\n\n\n\nShow up early for 50/50 raffle\, meat draw and Bingo.  \n\n\n\nEvery Friday!
URL:https://campbellrivernow.com/event/karaoke-night-at-cr-legion-hall/
LOCATION:Campbell River Legion Hall\, 301 11 Ave\, Campbell River\, BC\, V9W 4G2\, Canada
ATTACH;FMTTYPE=image/webp:https://campbellrivernow.com/wp-content/uploads/2025/03/karaoke-night.webp
END:VEVENT
END:VCALENDAR